BEGIN:VCALENDAR
VERSION:2.0
PRODID:-//wp-events-plugin.com//7.2.3.1//EN
TZID:America/New_York
X-WR-TIMEZONE:America/New_York
BEGIN:VEVENT
UID:1-5235@melrosecorporation.com
DTSTART;VALUE=DATE:20161111
DTEND;VALUE=DATE:20161112
DTSTAMP:20160906T225617Z
URL:http://melrosecorporation.com/events/baldwin-park-3/
SUMMARY:Baldwin Park
DESCRIPTION:December - Half Page $225
END:VEVENT
END:VCALENDAR